BEGIN:VCALENDAR
VERSION:2.0
PRODID:-//Discover Rogers County - ECPv6.15.20//NONSGML v1.0//EN
CALSCALE:GREGORIAN
METHOD:PUBLISH
X-ORIGINAL-URL:http://discoverrogerscounty.com
X-WR-CALDESC:Events for Discover Rogers County
REFRESH-INTERVAL;VALUE=DURATION:PT1H
X-Robots-Tag:noindex
X-PUBLISHED-TTL:PT1H
BEGIN:VTIMEZONE
TZID:America/Chicago
BEGIN:DAYLIGHT
TZOFFSETFROM:-0600
TZOFFSETTO:-0500
TZNAME:CDT
DTSTART:20220313T080000
END:DAYLIGHT
BEGIN:STANDARD
TZOFFSETFROM:-0500
TZOFFSETTO:-0600
TZNAME:CST
DTSTART:20221106T070000
END:STANDARD
BEGIN:DAYLIGHT
TZOFFSETFROM:-0600
TZOFFSETTO:-0500
TZNAME:CDT
DTSTART:20230312T080000
END:DAYLIGHT
BEGIN:STANDARD
TZOFFSETFROM:-0500
TZOFFSETTO:-0600
TZNAME:CST
DTSTART:20231105T070000
END:STANDARD
BEGIN:DAYLIGHT
TZOFFSETFROM:-0600
TZOFFSETTO:-0500
TZNAME:CDT
DTSTART:20240310T080000
END:DAYLIGHT
BEGIN:STANDARD
TZOFFSETFROM:-0500
TZOFFSETTO:-0600
TZNAME:CST
DTSTART:20241103T070000
END:STANDARD
BEGIN:DAYLIGHT
TZOFFSETFROM:-0600
TZOFFSETTO:-0500
TZNAME:CDT
DTSTART:20250309T080000
END:DAYLIGHT
BEGIN:STANDARD
TZOFFSETFROM:-0500
TZOFFSETTO:-0600
TZNAME:CST
DTSTART:20251102T070000
END:STANDARD
BEGIN:DAYLIGHT
TZOFFSETFROM:-0600
TZOFFSETTO:-0500
TZNAME:CDT
DTSTART:20260308T080000
END:DAYLIGHT
BEGIN:STANDARD
TZOFFSETFROM:-0500
TZOFFSETTO:-0600
TZNAME:CST
DTSTART:20261101T070000
END:STANDARD
END:VTIMEZONE
BEGIN:VEVENT
DTSTART;TZID=America/Chicago:20251209T170000
DTEND;TZID=America/Chicago:20251209T200000
DTSTAMP:20260423T090403
CREATED:20251110T172911Z
LAST-MODIFIED:20251204T191313Z
UID:10003534-1765299600-1765310400@discoverrogerscounty.com
SUMMARY:Santa at the Belvidere
DESCRIPTION:Christmas at the Belvidere is a holiday tradition in Claremore! The Victorian mansion is adorned in dazzling holiday decorations inside\, and shines brightly at night. Santa will be visiting on December 9th from 5-8 p.m.\, and hot chocolate and cookies will be provided!
URL:http://discoverrogerscounty.com/event/santa-at-the-belvidere/
LOCATION:The Belvidere Mansion\, 121 N. Chickasaw\, Claremore\, OK\, 74017\, United States
CATEGORIES:Holidays,Winter Holiday Events
ATTACH;FMTTYPE=image/jpeg:http://discoverrogerscounty.com/wp-content/uploads/2025/11/Belvidere-scaled-XAyyJH.jpg
END:VEVENT
BEGIN:VEVENT
DTSTART;TZID=America/Chicago:20251018T190000
DTEND;TZID=America/Chicago:20251018T210000
DTSTAMP:20260423T090403
CREATED:20240912T004425Z
LAST-MODIFIED:20250915T205014Z
UID:10002560-1760814000-1760821200@discoverrogerscounty.com
SUMMARY:Practical Magic Night
DESCRIPTION:Step into the spellbinding world of Practical Magic in Claremore at the beautiful\, historic Belvidere Mansion. \nWhat will be brewing\, is a lot of fun with make & take Witchy Crafts\, complimentary midnight Margaritas and snacks\, a magical atmosphere with Witchy vibes\, laughter and sisterhood. \nTickets are $65 per person. \n 
URL:http://discoverrogerscounty.com/event/practical-magic-night-2/
LOCATION:Belvidere Mansion\, 121 N Chickasaw Ave\, Claremore\, OK\, 74017
ATTACH;FMTTYPE=image/jpeg:http://discoverrogerscounty.com/wp-content/uploads/2024/09/Practical-Magic.jpg
END:VEVENT
BEGIN:VEVENT
DTSTART;TZID=America/Chicago:20251017T190000
DTEND;TZID=America/Chicago:20251017T210000
DTSTAMP:20260423T090403
CREATED:20240906T011519Z
LAST-MODIFIED:20250915T204810Z
UID:10002551-1760727600-1760734800@discoverrogerscounty.com
SUMMARY:Practical Magic Night
DESCRIPTION:Step into the spellbinding world of Practical Magic in Claremore at the beautiful\, historic Belvidere Mansion. \nWhat will be brewing\, is a lot of fun with make & take Witchy Crafts\, complimentary midnight Margaritas and snacks\, a magical atmosphere with Witchy vibes\, laughter and sisterhood. \nTickets are $65 per person. \n 
URL:http://discoverrogerscounty.com/event/practical-magic-night/
LOCATION:Belvidere Mansion\, 121 N Chickasaw Ave\, Claremore\, OK\, 74017
ATTACH;FMTTYPE=image/jpeg:http://discoverrogerscounty.com/wp-content/uploads/2024/09/Practical-Magic.jpg
END:VEVENT
BEGIN:VEVENT
DTSTART;TZID=America/Chicago:20251011T190000
DTEND;TZID=America/Chicago:20251012T080000
DTSTAMP:20260423T090403
CREATED:20250915T145845Z
LAST-MODIFIED:20251011T234331Z
UID:10003443-1760209200-1760256000@discoverrogerscounty.com
SUMMARY:Overnight Paranormal Investigation at the Belvidere
DESCRIPTION:Join us for an unforgettable night at the historic Belvidere Mansion\, a place steeped in mystery and legend. Explore the eerie halls\, hear chilling tales of the past\, and possibly encounter the spirits that linger within.What: overnight paranormal investigation with Sooner State Paranormal SocietyWhen: Saturday\, October 11\, 7 p.m. – Sunday\, October 12\, 7 a.m.Where: Belvidere Mansion\, 121 N Chickasaw Ave.\, ClaremoreCost: $120 (+ Event Brite fees) \nPurchase tickets at: Overnight Paranormal Investigation at the Belvidere ~ RCHS Fundraiser Tickets\, Sat\, Oct 11\, 2025 at 7:00 PM | Eventbrite
URL:http://discoverrogerscounty.com/event/overnight-paranormal-investigation-at-the-belvidere/
LOCATION:Belvidere Mansion\, 121 N Chickasaw Ave\, Claremore\, OK\, 74017
ATTACH;FMTTYPE=image/jpeg:http://discoverrogerscounty.com/wp-content/uploads/2025/09/Belvidere-jOPsYa.jpg
END:VEVENT
BEGIN:VEVENT
DTSTART;TZID=America/Chicago:20240413T180000
DTEND;TZID=America/Chicago:20240413T220000
DTSTAMP:20260423T090403
CREATED:20240319T194410Z
LAST-MODIFIED:20240401T124544Z
UID:10002030-1713031200-1713045600@discoverrogerscounty.com
SUMMARY:Gatsby Fundraiser Gala
DESCRIPTION:Rogers County Historical Society presents Gatsby Fundraiser Gala at the Belvidere Mansion. Join us for a night of 1920’s glitz\, glamour and giving back! Lots of fun to be had with a 20s/Gatsby Attire Contest! And much more. \n  \nSeats are limited! Tickets are purchased through EventBrite.
URL:http://discoverrogerscounty.com/event/gatsby-fundraiser-gala/
LOCATION:The Belvidere Mansion\, 121 N. Chickasaw\, Claremore\, OK\, 74017\, United States
ATTACH;FMTTYPE=image/jpeg:http://discoverrogerscounty.com/wp-content/uploads/2024/03/The-Gatsby-4P3ZIM.tmp_.jpg
END:VEVENT
BEGIN:VEVENT
DTSTART;VALUE=DATE:20231115
DTEND;VALUE=DATE:20231221
DTSTAMP:20260423T090403
CREATED:20231018T135522Z
LAST-MODIFIED:20231018T135522Z
UID:10001941-1700006400-1703116799@discoverrogerscounty.com
SUMMARY:Christmas at the Belvidere
DESCRIPTION:Christmas at the Belvidere is a holiday tradition in Claremore! The Victorian Mansion is adorned in dazzling holiday decorations inside\, and shines brightly at night. While visiting the Belvidere enjoy lunch at The Pink House\, you won’t be sorry! \n \n 
URL:http://discoverrogerscounty.com/event/christmas-at-the-belvidere/
LOCATION:The Belvidere Mansion\, 121 N. Chickasaw\, Claremore\, OK\, 74017\, United States
CATEGORIES:Winter Holiday Events
ATTACH;FMTTYPE=:
END:VEVENT
END:VCALENDAR