BEGIN:VCALENDAR
VERSION:2.0
PRODID:-//Discover Rogers County - ECPv6.15.20//NONSGML v1.0//EN
CALSCALE:GREGORIAN
METHOD:PUBLISH
X-WR-CALNAME:Discover Rogers County
X-ORIGINAL-URL:http://discoverrogerscounty.com
X-WR-CALDESC:Events for Discover Rogers County
REFRESH-INTERVAL;VALUE=DURATION:PT1H
X-Robots-Tag:noindex
X-PUBLISHED-TTL:PT1H
BEGIN:VTIMEZONE
TZID:America/Chicago
BEGIN:DAYLIGHT
TZOFFSETFROM:-0600
TZOFFSETTO:-0500
TZNAME:CDT
DTSTART:20250309T080000
END:DAYLIGHT
BEGIN:STANDARD
TZOFFSETFROM:-0500
TZOFFSETTO:-0600
TZNAME:CST
DTSTART:20251102T070000
END:STANDARD
BEGIN:DAYLIGHT
TZOFFSETFROM:-0600
TZOFFSETTO:-0500
TZNAME:CDT
DTSTART:20260308T080000
END:DAYLIGHT
BEGIN:STANDARD
TZOFFSETFROM:-0500
TZOFFSETTO:-0600
TZNAME:CST
DTSTART:20261101T070000
END:STANDARD
BEGIN:DAYLIGHT
TZOFFSETFROM:-0600
TZOFFSETTO:-0500
TZNAME:CDT
DTSTART:20270314T080000
END:DAYLIGHT
BEGIN:STANDARD
TZOFFSETFROM:-0500
TZOFFSETTO:-0600
TZNAME:CST
DTSTART:20271107T070000
END:STANDARD
END:VTIMEZONE
BEGIN:VEVENT
DTSTART;TZID=America/Chicago:20260425T160000
DTEND;TZID=America/Chicago:20260425T180000
DTSTAMP:20260421T101139
CREATED:20260326T001400Z
LAST-MODIFIED:20260326T001400Z
UID:10003821-1777132800-1777140000@discoverrogerscounty.com
SUMMARY:Mommy & Me Spring Tea
DESCRIPTION:Make sweet memories this Spring!\n​There’s nothing quite as special as a tea party at The Pink House. Join us on Saturday\, April 25th at 4:00 PM for our Mommy & Me Spring Tea!\n\n\n​Whether you’re bringing your daughter\, granddaughter\, or niece\, it’s going to be an afternoon filled with:\n\n\n Tiered trays of homemade sweets & petite sandwiches\n Pink lemonade and hot tea\nA special surprise guest appearance!\n​Put on your favorite spring dress and join us inside the beautiful Belvidere Mansion for a tradition you’ll never forget.\nFeel free to dress in your favorite spring tea party attire!\n\n\n1 ticket is for an adult and a child and then a second ticket can be purchased for any additional children.\n\n\n​Tickets are on sale now!\nhttps://www.eventbrite.com/…/mommy-and-me-spring-tea…
URL:http://discoverrogerscounty.com/event/mommy-me-spring-tea/
LOCATION:Belvidere Mansion\, 121 N Chickasaw Ave\, Claremore\, OK\, 74017
CATEGORIES:Family Fun
ATTACH;FMTTYPE=image/jpeg:http://discoverrogerscounty.com/wp-content/uploads/2026/03/Mommy-and-me-7krLya.jpg
END:VEVENT
END:VCALENDAR