BEGIN:VCALENDAR
VERSION:2.0
PRODID:-//Discover Rogers County - ECPv6.15.20//NONSGML v1.0//EN
CALSCALE:GREGORIAN
METHOD:PUBLISH
X-WR-CALNAME:Discover Rogers County
X-ORIGINAL-URL:http://discoverrogerscounty.com
X-WR-CALDESC:Events for Discover Rogers County
REFRESH-INTERVAL;VALUE=DURATION:PT1H
X-Robots-Tag:noindex
X-PUBLISHED-TTL:PT1H
BEGIN:VTIMEZONE
TZID:America/Chicago
BEGIN:DAYLIGHT
TZOFFSETFROM:-0600
TZOFFSETTO:-0500
TZNAME:CDT
DTSTART:20230312T080000
END:DAYLIGHT
BEGIN:STANDARD
TZOFFSETFROM:-0500
TZOFFSETTO:-0600
TZNAME:CST
DTSTART:20231105T070000
END:STANDARD
BEGIN:DAYLIGHT
TZOFFSETFROM:-0600
TZOFFSETTO:-0500
TZNAME:CDT
DTSTART:20240310T080000
END:DAYLIGHT
BEGIN:STANDARD
TZOFFSETFROM:-0500
TZOFFSETTO:-0600
TZNAME:CST
DTSTART:20241103T070000
END:STANDARD
BEGIN:DAYLIGHT
TZOFFSETFROM:-0600
TZOFFSETTO:-0500
TZNAME:CDT
DTSTART:20250309T080000
END:DAYLIGHT
BEGIN:STANDARD
TZOFFSETFROM:-0500
TZOFFSETTO:-0600
TZNAME:CST
DTSTART:20251102T070000
END:STANDARD
END:VTIMEZONE
BEGIN:VEVENT
DTSTART;TZID=America/Chicago:20240615T203000
DTEND;TZID=America/Chicago:20240615T220000
DTSTAMP:20260423T092507
CREATED:20240516T011348Z
LAST-MODIFIED:20240615T233252Z
UID:10002072-1718483400-1718488800@discoverrogerscounty.com
SUMMARY:Lady Luck’s Free Fireworks Show
DESCRIPTION:Bring your chairs and blankets for the Free Firework’s Show at Lady Luck’s!
URL:http://discoverrogerscounty.com/event/lady-lucks-free-fireworks-show/
LOCATION:Lady Luck’s Fireworks Warehouse\, 16352 E Hwy 20\, Claremore\, OK
ATTACH;FMTTYPE=image/jpeg:http://discoverrogerscounty.com/wp-content/uploads/2024/05/fireworks-HLrr21.tmp_.jpg
END:VEVENT
END:VCALENDAR