BEGIN:VCALENDAR
VERSION:2.0
PRODID:-//Discover Rogers County - ECPv6.15.20//NONSGML v1.0//EN
CALSCALE:GREGORIAN
METHOD:PUBLISH
X-WR-CALNAME:Discover Rogers County
X-ORIGINAL-URL:https://discoverrogerscounty.com
X-WR-CALDESC:Events for Discover Rogers County
REFRESH-INTERVAL;VALUE=DURATION:PT1H
X-Robots-Tag:noindex
X-PUBLISHED-TTL:PT1H
BEGIN:VTIMEZONE
TZID:America/Chicago
BEGIN:DAYLIGHT
TZOFFSETFROM:-0600
TZOFFSETTO:-0500
TZNAME:CDT
DTSTART:20230312T080000
END:DAYLIGHT
BEGIN:STANDARD
TZOFFSETFROM:-0500
TZOFFSETTO:-0600
TZNAME:CST
DTSTART:20231105T070000
END:STANDARD
BEGIN:DAYLIGHT
TZOFFSETFROM:-0600
TZOFFSETTO:-0500
TZNAME:CDT
DTSTART:20240310T080000
END:DAYLIGHT
BEGIN:STANDARD
TZOFFSETFROM:-0500
TZOFFSETTO:-0600
TZNAME:CST
DTSTART:20241103T070000
END:STANDARD
BEGIN:DAYLIGHT
TZOFFSETFROM:-0600
TZOFFSETTO:-0500
TZNAME:CDT
DTSTART:20250309T080000
END:DAYLIGHT
BEGIN:STANDARD
TZOFFSETFROM:-0500
TZOFFSETTO:-0600
TZNAME:CST
DTSTART:20251102T070000
END:STANDARD
BEGIN:DAYLIGHT
TZOFFSETFROM:-0600
TZOFFSETTO:-0500
TZNAME:CDT
DTSTART:20260308T080000
END:DAYLIGHT
BEGIN:STANDARD
TZOFFSETFROM:-0500
TZOFFSETTO:-0600
TZNAME:CST
DTSTART:20261101T070000
END:STANDARD
BEGIN:DAYLIGHT
TZOFFSETFROM:-0600
TZOFFSETTO:-0500
TZNAME:CDT
DTSTART:20270314T080000
END:DAYLIGHT
BEGIN:STANDARD
TZOFFSETFROM:-0500
TZOFFSETTO:-0600
TZNAME:CST
DTSTART:20271107T070000
END:STANDARD
END:VTIMEZONE
BEGIN:VEVENT
DTSTART;TZID=America/Chicago:20260328T120000
DTEND;TZID=America/Chicago:20260328T140000
DTSTAMP:20260425T132446
CREATED:20260226T005834Z
LAST-MODIFIED:20260226T005834Z
UID:10003797-1774699200-1774706400@discoverrogerscounty.com
SUMMARY:Wild Onion Feast
DESCRIPTION:Announcing the Annual Wild Onion Feast\nin the historic Cooweescoowee District\, Claremore\, Oklahoma \n Spring is time for new beginnings:\nCelebrate with us at our traditional “Wild Onion Feast” \n The Indian Women’s Pocahontas Club Higher Education Scholarship Fundraiser \nMarch 28\, 2026 – 12:00 – 2:00 p.m. \n\nA Traditional Wild Onion Meal\nLive Auction and Silent Auction. – IWPC Higher Education Scholarship Fundraiser\n\n\nClaremore First Methodist Church\, 1615 N. Hwy 88\, Claremore\, OK  74017\n\nThe Indian Women’s Pocahontas Club welcomes you to celebrate the tradition of the “Wild Onion Feast”.   The tradition started many years ago.   The Cherokee people welcomed spring with the harvesting of wild onions after a long\, cold winter. Along with digging only enough Sassafras roots to boil for a special aromatic tea\, it was home you go to clean the wild onions\, gather eggs\, and prepare a feast.  This tradition has long been shared with family\, friends\, and neighbors\, bringing families and the community together. \nThis is an opportunity to listen to the voices of Cherokee language singers\, taste the goodness of scrambled eggs and wild onions\, and enjoy the gathering of community to celebrate new beginnings. \nThe Wild Onion Feast celebrates the beginning of Spring and the gathering of our Indian Women’s Pocahontas Club members together\, along with the community to raise money for our Higher Education Scholarship Program. \nDue to the popularity of the event\, reservations for seating are appreciated. Tickets are $30 each or a table of eight for $250. For more information contact: Monta Ewing today at 918-857-2089 or email presidentindianwpc@gmail.com. \nThis event made possible with the support of the Cherokee Nation and other generous businesses and individuals.
URL:https://discoverrogerscounty.com/event/wild-onion-feast/
LOCATION:Claremore First Methodist Church\, 1615 OK-88\, Claremore\, OK\, 74017\, United States
ATTACH;FMTTYPE=image/jpeg:https://discoverrogerscounty.com/wp-content/uploads/2026/02/Wild-Onions-scaled-BP2gk5.jpg
END:VEVENT
BEGIN:VEVENT
DTSTART;TZID=America/Chicago:20241224T170000
DTEND;TZID=America/Chicago:20241224T233000
DTSTAMP:20260425T132446
CREATED:20241124T010021Z
LAST-MODIFIED:20241224T234352Z
UID:10002656-1735059600-1735083000@discoverrogerscounty.com
SUMMARY:Christmas Eve Candlelight Communion
DESCRIPTION:Services are at 5:00 PM. 7:00 PM and 11:00 PM on Christmas Eve. Join us at our Claremore First Methodist Church\, Central Campus at 1615 Highway South 88. \nChristmas Eve service at The Vessel\, next to the movie theater begins at 6:00PM. \n  \nAll are welcome to attend any of these beautiful services!
URL:https://discoverrogerscounty.com/event/christmas-eve-candlelight-communion/
LOCATION:Claremore First Methodist Church\, 1615 OK-88\, Claremore\, OK\, 74017\, United States
CATEGORIES:Winter Holiday Events
END:VEVENT
BEGIN:VEVENT
DTSTART;TZID=America/Chicago:20241222T173000
DTEND;TZID=America/Chicago:20241222T193000
DTSTAMP:20260425T132446
CREATED:20241125T161606Z
LAST-MODIFIED:20241222T235949Z
UID:10002672-1734888600-1734895800@discoverrogerscounty.com
SUMMARY:Living Nativity
DESCRIPTION:Claremore First Methodist Church are bringing back our Living Nativity this Christmas season. Come see baby Jesus\, Mary\, Joseph and ALL the live animals at the Central Campus. This year we will also have live music in the sanctuary on December 22. “The Greatest Story Ever Told” with ASL interpretation will be presented on Sunday night only.
URL:https://discoverrogerscounty.com/event/living-nativity-2/
LOCATION:Claremore First Methodist Church\, 1615 OK-88\, Claremore\, OK\, 74017\, United States
CATEGORIES:Winter Holiday Events
END:VEVENT
BEGIN:VEVENT
DTSTART;TZID=America/Chicago:20241221T173000
DTEND;TZID=America/Chicago:20241221T193000
DTSTAMP:20260425T132446
CREATED:20241125T154326Z
LAST-MODIFIED:20241221T232009Z
UID:10002863-1734802200-1734809400@discoverrogerscounty.com
SUMMARY:Living Nativity
DESCRIPTION:Claremore First Methodist Church are bringing back our Living Nativity this Christmas season. Come see baby Jesus\, Mary\, Joseph and ALL the live animals at the Central Campus. This year we will also have live music in the sanctuary on December 22. “The Greatest Story Ever Told” with ASL interpretation will be presented on Sunday night only.
URL:https://discoverrogerscounty.com/event/living-nativity/
LOCATION:Claremore First Methodist Church\, 1615 OK-88\, Claremore\, OK\, 74017\, United States
CATEGORIES:Winter Holiday Events
END:VEVENT
END:VCALENDAR